BEGIN:VCALENDAR
VERSION:2.0
PRODID:icalendar-ruby
CALSCALE:GREGORIAN
METHOD:PUBLISH
BEGIN:VEVENT
DTSTAMP:20260423T234204Z
UID:9-1478221@fcaphila.org
DTSTART:20261011T150000Z
DTEND:20261011T160000Z
CLASS:PUBLIC
CREATED:20260423T183739
DESCRIPTION:Worship Service
LAST-MODIFIED:20260423T183739
LOCATION:FCA
SUMMARY:Worship Service
URL;VALUE=URI:https://fcaphila.org/events/worship-service--9/2026-10-11
ATTACH;FILENAME=sunday pew.png;FMTTYPE=image/png:https://dq5pwpg1q8ru0.clou
 dfront.net/2022/10/03/12/47/06/ea5e3164-6b29-4f8c-8c91-25747a17032c/sunday
 %20pew.png
END:VEVENT
END:VCALENDAR
