BEGIN:VCALENDAR
VERSION:2.0
PRODID:icalendar-ruby
CALSCALE:GREGORIAN
METHOD:PUBLISH
BEGIN:VEVENT
DTSTAMP:20260424T061842Z
UID:11-1479496@fcaphila.org
DTSTART:20261016T230000Z
DTEND:20261017T000000Z
CLASS:PUBLIC
CREATED:20260423T213052
DESCRIPTION:
LAST-MODIFIED:20260423T213052
LOCATION:
SUMMARY:Free Indeed
URL;VALUE=URI:https://fcaphila.org/events/free-indeed/2026-10-16
ATTACH;FILENAME=free indeed.jpg;FMTTYPE=image/jpeg:https://dq5pwpg1q8ru0.cl
 oudfront.net/2022/10/03/12/00/46/ad246fbc-da95-4854-9c59-4ea6d71131bc/free
 %20indeed.jpg
END:VEVENT
END:VCALENDAR
